BEGIN:VCALENDAR
VERSION:2.0
PRODID:-//ChamberMaster//Event Calendar 2.0//EN
METHOD:PUBLISH
X-PUBLISHED-TTL:P3D
REFRESH-INTERVAL:P3D
CALSCALE:GREGORIAN
BEGIN:VEVENT
DTSTART:20121221T223000Z
DTEND:20121222T001500Z
X-MICROSOFT-CDO-ALLDAYEVENT:FALSE
SUMMARY:Whiskey Creek RC & Open House
DESCRIPTION:Whiskey Creek Ribbon Cutting and Open House After Hours Event\n\nFriday\, December 21\, 2012\n\n4:30-6:15pm - Open House After Hours Event\n\n5pm - Ribbon Cutting to celebrate the completion of the Renovation
X-ALT-DESC;FMTTYPE=text/html:Whiskey Creek Ribbon Cutting and Open House After Hours Event<br />\nFriday\, December 21\, 2012<br />\n4:30-6:15pm - Open House After Hours Event<br />\n5pm - Ribbon Cutting to celebrate the completion of the Renovation
LOCATION:
UID:e.590.4639
SEQUENCE:3
DTSTAMP:20260422T114128Z
URL:https://business.nparea.com/events/details/whiskey-creek-rc-open-house-12-21-2012-4639
END:VEVENT

END:VCALENDAR
