BEGIN:VCALENDAR
VERSION:2.0
PRODID:-//ChamberMaster//Event Calendar 2.0//EN
METHOD:PUBLISH
X-PUBLISHED-TTL:P3D
REFRESH-INTERVAL:P3D
CALSCALE:GREGORIAN
BEGIN:VEVENT
DTSTART:20151111T220000Z
DTEND:20151111T230000Z
X-MICROSOFT-CDO-ALLDAYEVENT:FALSE
SUMMARY:Veteran's Parade Downtown
DESCRIPTION:Veterans's Day Parade\n\nDowntown North Platte\n\n4pm
X-ALT-DESC;FMTTYPE=text/html:Veterans&#39\;s Day Parade<br />\nDowntown North Platte<br />\n4pm
LOCATION:
UID:e.590.7518
SEQUENCE:3
DTSTAMP:20260419T205234Z
URL:https://business.nparea.com/events/details/veteran-s-parade-downtown-11-11-2015-7518
END:VEVENT

END:VCALENDAR
