BEGIN:VCALENDAR
VERSION:2.0
PRODID:-//ChamberMaster//Event Calendar 2.0//EN
METHOD:PUBLISH
X-PUBLISHED-TTL:P3D
REFRESH-INTERVAL:P3D
CALSCALE:GREGORIAN
BEGIN:VEVENT
DTSTART:20121206T230000Z
DTEND:20121207T020000Z
X-MICROSOFT-CDO-ALLDAYEVENT:FALSE
SUMMARY:Twin Rivers Fitness RC & Open House
DESCRIPTION:Twin Rivers Fitness Ribbon Cutting and Open House\n\n220 West Leota Street\n\nThursday\, December 6\, 2012   5-8pm\n\nRibbon Cutting will take place at 5pm\n\nOpen House from 5-8pm
X-ALT-DESC;FMTTYPE=text/html:Twin Rivers Fitness Ribbon Cutting and Open House<br />\n220 West Leota Street<br />\nThursday\, December 6\, 2012&nbsp\;&nbsp\; 5-8pm<br />\nRibbon Cutting will take place at 5pm<br />\nOpen House from 5-8pm<br />\n
LOCATION:
UID:e.590.4510
SEQUENCE:3
DTSTAMP:20260422T114442Z
URL:https://business.nparea.com/events/details/twin-rivers-fitness-rc-open-house-12-06-2012-4510
END:VEVENT

END:VCALENDAR
