BEGIN:VCALENDAR
VERSION:2.0
PRODID:-//ChamberMaster//Event Calendar 2.0//EN
METHOD:PUBLISH
X-PUBLISHED-TTL:P3D
REFRESH-INTERVAL:P3D
CALSCALE:GREGORIAN
BEGIN:VEVENT
DTSTART:20130323T180000Z
DTEND:20130323T220000Z
X-MICROSOFT-CDO-ALLDAYEVENT:FALSE
SUMMARY:Toast Masters
DESCRIPTION:Meeting to establish a local organization.
X-ALT-DESC;FMTTYPE=text/html:Meeting to establish a local organization.
LOCATION:Chamber Board Room
UID:e.590.4871
SEQUENCE:3
DTSTAMP:20260422T080610Z
URL:https://business.nparea.com/events/details/toast-masters-03-23-2013-4871
END:VEVENT

END:VCALENDAR
