BEGIN:VCALENDAR
VERSION:2.0
PRODID:-//ChamberMaster//Event Calendar 2.0//EN
METHOD:PUBLISH
X-PUBLISHED-TTL:P3D
REFRESH-INTERVAL:P3D
CALSCALE:GREGORIAN
BEGIN:VEVENT
DTSTART:20140501T223000Z
DTEND:20140502T010000Z
X-MICROSOFT-CDO-ALLDAYEVENT:FALSE
SUMMARY:Taste of the Plains
DESCRIPTION:Food\, Crafts & Entertainment!
X-ALT-DESC;FMTTYPE=text/html:Food\, Crafts &amp\; Entertainment!&nbsp\;
LOCATION:Holiday Inn Conference Center
UID:e.590.5892
SEQUENCE:3
DTSTAMP:20260421T065736Z
URL:https://business.nparea.com/events/details/taste-of-the-plains-05-01-2014-5892
END:VEVENT

END:VCALENDAR
