BEGIN:VCALENDAR
VERSION:2.0
PRODID:-//ChamberMaster//Event Calendar 2.0//EN
METHOD:PUBLISH
X-PUBLISHED-TTL:P3D
REFRESH-INTERVAL:P3D
CALSCALE:GREGORIAN
BEGIN:VEVENT
DTSTART:20150522T170000Z
DTEND:20150522T180000Z
X-MICROSOFT-CDO-ALLDAYEVENT:FALSE
SUMMARY:SW Wrap RC & GO
DESCRIPTION:GO & RC\n\nSW WRAP
X-ALT-DESC;FMTTYPE=text/html:<span style="font-family: times new roman\,serif\;">GO &amp\; RC</span><br />\n<span style="font-family: times new roman\,serif\;">SW WRAP</span>
LOCATION:109 E 2nd St
UID:e.590.7158
SEQUENCE:3
DTSTAMP:20260420T092615Z
URL:https://business.nparea.com/events/details/sw-wrap-rc-go-05-22-2015-7158
END:VEVENT

END:VCALENDAR
