BEGIN:VCALENDAR
VERSION:2.0
PRODID:-//ChamberMaster//Event Calendar 2.0//EN
METHOD:PUBLISH
X-PUBLISHED-TTL:P3D
REFRESH-INTERVAL:P3D
CALSCALE:GREGORIAN
BEGIN:VEVENT
DTSTART;VALUE=DATE:20140228
DTEND;VALUE=DATE:20140301
TRANSP:TRANSPARENT
X-MICROSOFT-CDO-ALLDAYEVENT:TRUE
SUMMARY:Super Hero 5K & Kids Fun Run Logo Deadline February 28th
DESCRIPTION:Super Hero 5K on April 5th and are still looking for sponsors at the $1\,500 (Thor)\, $500 (Spiderman) and $250 (Green Hornet) levels but we need to know ASAP as the T-shirts lady wants to know by February 28th. \n\n\n\n Anyone interested can contact Vicki Lawton at 520-0577 or lincolncountycasa@gmail.com.
X-ALT-DESC;FMTTYPE=text/html:&nbsp\;<span style="font-family:calibri\,sans-serif\;">Super Hero 5K on April 5th and are still looking for sponsors at the $1\,500 (Thor)\, $500 (Spiderman) and $250 (Green Hornet) levels but we need to know ASAP as the T-shirts lady wants to know by February 28th.&nbsp\;<br id="FontBreak" />\n<br />\n&nbsp\;Anyone interested can contact Vicki Lawton at 520-0577 or <a href="mailto:lincolncountycasa@gmail.com">lincolncountycasa@gmail.com</a>.</span><br />\n<br />\n
LOCATION:
UID:e.590.5889
SEQUENCE:3
DTSTAMP:20260421T120200Z
URL:https://business.nparea.com/events/details/super-hero-5k-kids-fun-run-logo-deadline-february-28th-02-28-2014-5889
END:VEVENT

END:VCALENDAR
