BEGIN:VCALENDAR
VERSION:2.0
PRODID:-//ChamberMaster//Event Calendar 2.0//EN
METHOD:PUBLISH
X-PUBLISHED-TTL:P3D
REFRESH-INTERVAL:P3D
CALSCALE:GREGORIAN
BEGIN:VEVENT
DTSTART:20150528T160000Z
DTEND:20150528T170000Z
X-MICROSOFT-CDO-ALLDAYEVENT:FALSE
SUMMARY:State Farm Ribbon Cutting Brandy Barrett
DESCRIPTION:State Farm   Brandy Barrett \nThursday\, May 28\, 2015 \n\n11:00am\n\n1855 West A Street \n\nLight refreshments will be served.
X-ALT-DESC;FMTTYPE=text/html:State Farm &ndash\; Brandy Barrett&nbsp\;\n<div>Thursday\, May 28\, 2015&nbsp\;</div>\n\n<div>11:00am</div>\n\n<div>1855 West A Street&nbsp\;</div>\n\n<div>Light refreshments will be served.</div>\n
LOCATION:
UID:e.590.7187
SEQUENCE:3
DTSTAMP:20260420T093323Z
URL:https://business.nparea.com/events/details/state-farm-ribbon-cutting-brandy-barrett-05-28-2015-7187
END:VEVENT

END:VCALENDAR
