BEGIN:VCALENDAR
VERSION:2.0
PRODID:-//ChamberMaster//Event Calendar 2.0//EN
METHOD:PUBLISH
X-PUBLISHED-TTL:P3D
REFRESH-INTERVAL:P3D
CALSCALE:GREGORIAN
BEGIN:VEVENT
DTSTART:20150826T120000Z
DTEND:20150826T130000Z
X-MICROSOFT-CDO-ALLDAYEVENT:FALSE
SUMMARY:State Chamber Legislative Forum
DESCRIPTION:Wednesday\, August 26\, 2015 Holiday Inn Express 7am\n\nkathy@nparea.com
X-ALT-DESC;FMTTYPE=text/html:Wednesday\, August 26\, 2015 Holiday Inn Express 7am<br />\n<a href="mailto:kathy@nparea.com?subject=State%20Legislature%20Breakfast&amp\;body=Sign%20me%20up!">kathy@nparea.com</a><br />\n&nbsp\;
LOCATION:
UID:e.590.7355
SEQUENCE:3
DTSTAMP:20260420T032006Z
URL:https://business.nparea.com/events/details/state-chamber-legislative-forum-08-26-2015-7355
END:VEVENT

END:VCALENDAR
