BEGIN:VCALENDAR
VERSION:2.0
PRODID:-//ChamberMaster//Event Calendar 2.0//EN
METHOD:PUBLISH
X-PUBLISHED-TTL:P3D
REFRESH-INTERVAL:P3D
CALSCALE:GREGORIAN
BEGIN:VEVENT
DTSTART:20150825T210000Z
DTEND:20150825T220000Z
X-MICROSOFT-CDO-ALLDAYEVENT:FALSE
SUMMARY:Senator Fischer Listening Session
DESCRIPTION:Senator Fischer Listening Session
X-ALT-DESC;FMTTYPE=text/html:Senator Fischer Listening Session
LOCATION:Espresso Shoppe
UID:e.590.7364
SEQUENCE:3
DTSTAMP:20260420T053529Z
URL:https://business.nparea.com/events/details/senator-fischer-listening-session-08-25-2015-7364
END:VEVENT

END:VCALENDAR
