BEGIN:VCALENDAR
VERSION:2.0
PRODID:-//ChamberMaster//Event Calendar 2.0//EN
METHOD:PUBLISH
X-PUBLISHED-TTL:P3D
REFRESH-INTERVAL:P3D
CALSCALE:GREGORIAN
BEGIN:VEVENT
DTSTART:20141120T180000Z
DTEND:20141120T190000Z
X-MICROSOFT-CDO-ALLDAYEVENT:FALSE
SUMMARY:Sandhills State Bank RC & GO
DESCRIPTION:Ribbon Cutting & Grand Opening
X-ALT-DESC;FMTTYPE=text/html:Ribbon Cutting &amp\; Grand Opening
LOCATION:203 S. Dewey
UID:e.590.5920
SEQUENCE:3
DTSTAMP:20260420T200212Z
URL:https://business.nparea.com/events/details/sandhills-state-bank-rc-go-11-20-2014-5920
END:VEVENT

END:VCALENDAR
