BEGIN:VCALENDAR
VERSION:2.0
PRODID:-//ChamberMaster//Event Calendar 2.0//EN
METHOD:PUBLISH
X-PUBLISHED-TTL:P3D
REFRESH-INTERVAL:P3D
CALSCALE:GREGORIAN
BEGIN:VEVENT
DTSTART:20151005T220000Z
DTEND:20151005T230000Z
X-MICROSOFT-CDO-ALLDAYEVENT:FALSE
SUMMARY:Ribbon Cutting Western Nebraska Bank and Nebraska Insurance
DESCRIPTION:600 S Jeffers St.
X-ALT-DESC;FMTTYPE=text/html:600 S Jeffers St.&nbsp\;
LOCATION:
UID:e.590.7385
SEQUENCE:3
DTSTAMP:20260420T012518Z
URL:https://business.nparea.com/events/details/ribbon-cutting-western-nebraska-bank-and-nebraska-insurance-10-05-2015-7385
END:VEVENT

END:VCALENDAR
