BEGIN:VCALENDAR
VERSION:2.0
PRODID:-//ChamberMaster//Event Calendar 2.0//EN
METHOD:PUBLISH
X-PUBLISHED-TTL:P3D
REFRESH-INTERVAL:P3D
CALSCALE:GREGORIAN
BEGIN:VEVENT
DTSTART:20131108T183000Z
DTEND:20131108T193000Z
X-MICROSOFT-CDO-ALLDAYEVENT:FALSE
SUMMARY:Ribbon Cutting - Keep NP & Lincoln County Beautiful "Original Town Sculptures"
DESCRIPTION:Original Town Sculpture Ribbon Cutting\n\n\n\nYou're invited to attend a Ribbon Cutting for the Art Sculptures along the Highway 83 corridor.  On Friday\, November 8th at 12:30 PM we will meet at the First National Bank ATM location at 110 West 13th Street.  From this point\, moving south into Original Town\, eight sculptures line the street.  Locations for the structures are First National Bank\, Bill Summers North\, Lutheran Family Services\, K & M Improvements\, Do It Center\, Kwik Stop\, Safelite Glass\, and Dollar General.  \n\n\n\nThe sculptures were provided by Keep North Platte and Lincoln County Beautiful in part by a grant from Mid-Nebraska Community Foundation and a number of local sponsors.\n\n\n\nAfter a short ceremony\, we invite everyone to walk or drive down street to view all of the sculptures. This is the beginning of an ongoing beautification project for the entire community.  We hope that you can attend and help us celebrate the efforts of all of those who have made it possible to achieve the first phase of a cleaner\, greener\, and more beautiful North Platte.
X-ALT-DESC;FMTTYPE=text/html:<br />\n<br />\n<span style="font-size: 14px\;"><span style="font-family: arial\;"><strong>Original Town Sculpture Ribbon Cutting</strong></span><br />\n<br />\nYou&rsquo\;re invited to attend a Ribbon Cutting for the Art Sculptures along the Highway 83 corridor.&nbsp\; On Friday\, November 8<sup>th</sup> at 12:30 PM we will meet <u>at the First National Bank ATM location at 110 West 13th Street</u>. &nbsp\;From this point\, moving south into Original Town\, eight sculptures line the street.&nbsp\; Locations for the structures are First National Bank\, Bill Summers North\, Lutheran Family Services\, K &amp\; M Improvements\, Do It Center\, Kwik Stop\, Safelite Glass\, and Dollar General. &nbsp\;</span><br />\n<br />\n<span style="font-size: 14px\;"><span style="font-family: arial\;">The sculptures were provided by Keep North Platte and Lincoln County Beautiful in part by a grant from Mid-Nebraska Community Foundation and a number of local sponsors.<br />\n<br />\nAfter a short ceremony\, we invite everyone to walk or drive down street to view all of the sculptures. This is the beginning of an ongoing beautification project for the entire community.&nbsp\; We hope that you can attend and help us celebrate the efforts of all of those who have made it possible to achieve the first phase of a cleaner\, greener\, and more beautiful North Platte. &nbsp\;</span></span>
LOCATION:First National Bank ATM 110 West 13th Street (13th & Jeffers Streets) North Platte\, NE
UID:e.590.5582
SEQUENCE:3
DTSTAMP:20260421T172922Z
URL:https://business.nparea.com/events/details/ribbon-cutting-keep-np-lincoln-county-beautiful-original-town-sculptures-11-08-2013-5582
END:VEVENT

END:VCALENDAR
