BEGIN:VCALENDAR
VERSION:2.0
PRODID:-//ChamberMaster//Event Calendar 2.0//EN
METHOD:PUBLISH
X-PUBLISHED-TTL:P3D
REFRESH-INTERVAL:P3D
CALSCALE:GREGORIAN
BEGIN:VEVENT
DTSTART:20130619T171500Z
DTEND:20130619T181500Z
X-MICROSOFT-CDO-ALLDAYEVENT:FALSE
SUMMARY:Ribbon Cutting & Grand Opening Touch of Tranquility
DESCRIPTION:Ribbon Cutting & Grand Opening at 12:15\n\nTouch of Tranquility\n\n1717 E 4th Suite B\n\nOpen House from noon to 5pm\n\n\n\nIf you schedule a massage appointment while attending the Open House you will receive $10 off that visit.    There will also be drawings for a 1/2 hour massage and a 1 hour massage.
X-ALT-DESC;FMTTYPE=text/html:Ribbon Cutting &amp\; Grand Opening at 12:15<br />\nTouch of Tranquility<br />\n1717 E 4th Suite B<br />\nOpen House from noon to 5pm<br />\n<br />\nIf you schedule a massage appointment while attending the Open House you will receive $10 off that visit.&nbsp\;&nbsp\;&nbsp\; There will also be drawings for a 1/2 hour massage and a 1 hour massage.
LOCATION:
UID:e.590.5129
SEQUENCE:3
DTSTAMP:20260422T023218Z
URL:https://business.nparea.com/events/details/ribbon-cutting-grand-opening-touch-of-tranquility-06-19-2013-5129
END:VEVENT

END:VCALENDAR
