BEGIN:VCALENDAR
VERSION:2.0
PRODID:-//ChamberMaster//Event Calendar 2.0//EN
METHOD:PUBLISH
X-PUBLISHED-TTL:P3D
REFRESH-INTERVAL:P3D
CALSCALE:GREGORIAN
BEGIN:VEVENT
DTSTART:20130708T150000Z
DTEND:20130708T160000Z
X-MICROSOFT-CDO-ALLDAYEVENT:FALSE
SUMMARY:Ribbon Cutting & Grand Opening Inland Truck Parts
DESCRIPTION:Grand Opening and Ribbon Cutting\n\n Inland Truck Parts in their new location \n\n3820 S Newberry Access\n\n10am
X-ALT-DESC;FMTTYPE=text/html:Grand Opening and Ribbon Cutting<br />\n&nbsp\;Inland Truck Parts in their new location&nbsp\;<br />\n3820 S&nbsp\;Newberry Access<br />\n10am
LOCATION:
UID:e.590.5130
SEQUENCE:3
DTSTAMP:20260422T004440Z
URL:https://business.nparea.com/events/details/ribbon-cutting-grand-opening-inland-truck-parts-07-08-2013-5130
END:VEVENT

END:VCALENDAR
