BEGIN:VCALENDAR
VERSION:2.0
PRODID:-//ChamberMaster//Event Calendar 2.0//EN
METHOD:PUBLISH
X-PUBLISHED-TTL:P3D
REFRESH-INTERVAL:P3D
CALSCALE:GREGORIAN
BEGIN:VEVENT
DTSTART:20150327T170000Z
DTEND:20150327T180000Z
X-MICROSOFT-CDO-ALLDAYEVENT:FALSE
SUMMARY:Ribbon Cutting at Bible Supplies New Location
DESCRIPTION:Bible Supplies   new location\n\nFriday\, March 27 at noon\n\n1927 West A Street
X-ALT-DESC;FMTTYPE=text/html:<span style="font-family:times new roman\,serif\;">Bible Supplies &ndash\; new location</span><br />\n<span style="font-family:times new roman\,serif\;">Friday\, March 27 at noon</span><br />\n<span style="font-family:times new roman\,serif\;">1927 West A Street</span>
LOCATION:
UID:e.590.6888
SEQUENCE:3
DTSTAMP:20260420T125445Z
URL:https://business.nparea.com/events/details/ribbon-cutting-at-bible-supplies-new-location-03-27-2015-6888
END:VEVENT

END:VCALENDAR
