BEGIN:VCALENDAR
VERSION:2.0
PRODID:-//ChamberMaster//Event Calendar 2.0//EN
METHOD:PUBLISH
X-PUBLISHED-TTL:P3D
REFRESH-INTERVAL:P3D
CALSCALE:GREGORIAN
BEGIN:VEVENT
DTSTART:20140206T153000Z
DTEND:20140206T210000Z
X-MICROSOFT-CDO-ALLDAYEVENT:FALSE
SUMMARY:Red\, White & Blue Senior Games
DESCRIPTION:Leadership Lincoln County Group #2 has collaborated with the North Platte Senior Center and a number of local sponsors to present a winter senior games event in North Platte.
X-ALT-DESC;FMTTYPE=text/html:Leadership Lincoln County Group #2 has collaborated with the North Platte Senior Center and a number of&nbsp\;local sponsors to present a winter senior games event in North Platte.
LOCATION:North Platte Senior Center 901 East 10th North Platte Nebraska
UID:e.590.5861
SEQUENCE:3
DTSTAMP:20260421T115759Z
URL:https://business.nparea.com/events/details/red-white-blue-senior-games-02-06-2014-5861
END:VEVENT

END:VCALENDAR
