BEGIN:VCALENDAR
VERSION:2.0
PRODID:-//ChamberMaster//Event Calendar 2.0//EN
METHOD:PUBLISH
X-PUBLISHED-TTL:P3D
REFRESH-INTERVAL:P3D
CALSCALE:GREGORIAN
BEGIN:VEVENT
DTSTART:20130613T170000Z
DTEND:20130613T173000Z
X-MICROSOFT-CDO-ALLDAYEVENT:FALSE
SUMMARY:RC & GO US Cellular-Huskerland Communications
DESCRIPTION:Huskerland Communications - U.S. Cellular\n\nGrand Opening & Ribbon Cutting\n\n116 N Jeffers Street\n\nNoon
X-ALT-DESC;FMTTYPE=text/html:Huskerland Communications - U.S. Cellular<br />\nGrand Opening &amp\; Ribbon Cutting<br />\n116 N Jeffers Street<br />\nNoon 
LOCATION:
UID:e.590.5121
SEQUENCE:3
DTSTAMP:20260422T022925Z
URL:https://business.nparea.com/events/details/rc-go-us-cellular-huskerland-communications-06-13-2013-5121
END:VEVENT

END:VCALENDAR
