BEGIN:VCALENDAR
VERSION:2.0
PRODID:-//ChamberMaster//Event Calendar 2.0//EN
METHOD:PUBLISH
X-PUBLISHED-TTL:P3D
REFRESH-INTERVAL:P3D
CALSCALE:GREGORIAN
BEGIN:VEVENT
DTSTART:20131102T170000Z
DTEND:20131102T180000Z
X-MICROSOFT-CDO-ALLDAYEVENT:FALSE
SUMMARY:RC & GO The Connection Thrift Center
DESCRIPTION:Ribbon Cutting & Grand Opening\n\nThe Connection Thrift Store  - new location\n\n501 E 5th St\n\nNoon\n\nLunch will be served.   Live Remote
X-ALT-DESC;FMTTYPE=text/html:Ribbon Cutting &amp\; Grand Opening<br />\nThe Connection Thrift Store&nbsp\; - new location<br />\n501&nbsp\;E 5th St<br />\nNoon<br />\nLunch will be served.&nbsp\;&nbsp\; Live Remote
LOCATION:
UID:e.590.5570
SEQUENCE:3
DTSTAMP:20260421T172507Z
URL:https://business.nparea.com/events/details/rc-go-the-connection-thrift-center-11-02-2013-5570
END:VEVENT

END:VCALENDAR
