BEGIN:VCALENDAR
VERSION:2.0
PRODID:-//ChamberMaster//Event Calendar 2.0//EN
METHOD:PUBLISH
X-PUBLISHED-TTL:P3D
REFRESH-INTERVAL:P3D
CALSCALE:GREGORIAN
BEGIN:VEVENT
DTSTART:20130510T221500Z
DTEND:20130510T223000Z
X-MICROSOFT-CDO-ALLDAYEVENT:FALSE
SUMMARY:RC & GO Sylvan Learning Center
DESCRIPTION:Ribbon Cutting & Grand Opening\n\nNew location: 110 S Cottonwood\n\nSylvan Learning Center\n\n5:15pm
X-ALT-DESC;FMTTYPE=text/html:Ribbon Cutting &amp\; Grand Opening<br />\nNew location:&nbsp\;110 S Cottonwood<br />\nSylvan Learning Center<br />\n5:15pm 
LOCATION:
UID:e.590.4885
SEQUENCE:3
DTSTAMP:20260422T050327Z
URL:https://business.nparea.com/events/details/rc-go-sylvan-learning-center-05-10-2013-4885
END:VEVENT

END:VCALENDAR
