BEGIN:VCALENDAR
VERSION:2.0
PRODID:-//ChamberMaster//Event Calendar 2.0//EN
METHOD:PUBLISH
X-PUBLISHED-TTL:P3D
REFRESH-INTERVAL:P3D
CALSCALE:GREGORIAN
BEGIN:VEVENT
DTSTART:20130516T140000Z
DTEND:20130516T143000Z
X-MICROSOFT-CDO-ALLDAYEVENT:FALSE
SUMMARY:RC & GO Railfest Office
DESCRIPTION:Railfest Office\n\nGrand Opening & Ribbon Cutting\n\nThursday\, May 16\, 2013\n\n9am\n\n1002 N Jeffers
X-ALT-DESC;FMTTYPE=text/html:Railfest Office<br />\nGrand Opening &amp\; Ribbon Cutting<br />\nThursday\, May 16\, 2013<br />\n9am<br />\n1002 N Jeffers
LOCATION:
UID:e.590.5031
SEQUENCE:3
DTSTAMP:20260422T035432Z
URL:https://business.nparea.com/events/details/rc-go-railfest-office-05-16-2013-5031
END:VEVENT

END:VCALENDAR
