BEGIN:VCALENDAR
VERSION:2.0
PRODID:-//ChamberMaster//Event Calendar 2.0//EN
METHOD:PUBLISH
X-PUBLISHED-TTL:P3D
REFRESH-INTERVAL:P3D
CALSCALE:GREGORIAN
BEGIN:VEVENT
DTSTART:20121129T180000Z
DTEND:20121129T190000Z
X-MICROSOFT-CDO-ALLDAYEVENT:FALSE
SUMMARY:RC & GO Platte Valley Women's Healthcare
DESCRIPTION:Ribbon Cutting & Grand Opening\n\n	Platte Valley Women's Healthcare\n\n	810 West Reid Ave\n\n	Thursday\, November 29\, 2012 at noon
X-ALT-DESC;FMTTYPE=text/html:<p>\n	Ribbon Cutting &amp\; Grand Opening<br />\n	Platte Valley Women&#39\;s Healthcare<br />\n	810 West Reid Ave<br />\n	Thursday\, November 29\, 2012 at noon</p>\n
LOCATION:
UID:e.590.4513
SEQUENCE:3
DTSTAMP:20260422T132146Z
URL:https://business.nparea.com/events/details/rc-go-platte-valley-women-s-healthcare-11-29-2012-4513
END:VEVENT

END:VCALENDAR
