BEGIN:VCALENDAR
VERSION:2.0
PRODID:-//ChamberMaster//Event Calendar 2.0//EN
METHOD:PUBLISH
X-PUBLISHED-TTL:P3D
REFRESH-INTERVAL:P3D
CALSCALE:GREGORIAN
BEGIN:VEVENT
DTSTART:20130124T150000Z
DTEND:20130125T040000Z
X-MICROSOFT-CDO-ALLDAYEVENT:FALSE
SUMMARY:RC & GO Platte Valley Women's Healthcare
DESCRIPTION:Ribbon Cutting & Grand Opening\n\nPlatte Valley Women's Healthcare\n\n810 W Reid Ave #4\n\n9:00am
X-ALT-DESC;FMTTYPE=text/html:Ribbon Cutting &amp\; Grand Opening<br />\nPlatte Valley Women&#39\;s Healthcare<br />\n810 W Reid Ave #4<br />\n9:00am
LOCATION:
UID:e.590.4642
SEQUENCE:3
DTSTAMP:20260422T102003Z
URL:https://business.nparea.com/events/details/rc-go-platte-valley-women-s-healthcare-01-24-2013-4642
END:VEVENT

END:VCALENDAR
