BEGIN:VCALENDAR
VERSION:2.0
PRODID:-//ChamberMaster//Event Calendar 2.0//EN
METHOD:PUBLISH
X-PUBLISHED-TTL:P3D
REFRESH-INTERVAL:P3D
CALSCALE:GREGORIAN
BEGIN:VEVENT
DTSTART:20130430T163000Z
DTEND:20130430T173000Z
X-MICROSOFT-CDO-ALLDAYEVENT:FALSE
SUMMARY:RC & GO Hershey State Bank
DESCRIPTION:Ribbon Cutting & Grand Opening\n\nHershey State Bank new location in North Platte\n\n301 E Philip\n\nNorth Platte NE\n\nTuesday\, April 30\, 2013\n\n11:30AM
X-ALT-DESC;FMTTYPE=text/html:Ribbon Cutting &amp\; Grand Opening<br />\nHershey State Bank new location in North Platte<br />\n301 E Philip<br />\nNorth Platte NE<br />\nTuesday\, April 30\, 2013<br />\n11:30AM
LOCATION:
UID:e.590.4884
SEQUENCE:3
DTSTAMP:20260422T050506Z
URL:https://business.nparea.com/events/details/rc-go-hershey-state-bank-04-30-2013-4884
END:VEVENT

END:VCALENDAR
