BEGIN:VCALENDAR
VERSION:2.0
PRODID:-//ChamberMaster//Event Calendar 2.0//EN
METHOD:PUBLISH
X-PUBLISHED-TTL:P3D
REFRESH-INTERVAL:P3D
CALSCALE:GREGORIAN
BEGIN:VEVENT
DTSTART:20150604T170000Z
DTEND:20150604T180000Z
X-MICROSOFT-CDO-ALLDAYEVENT:FALSE
SUMMARY:RC & GO for Edward Jones Yoko Lawing Financial Advisor
DESCRIPTION:Edward Jones   Yoko Lawing\, Financial Advisor\n\n602 S Jeffers\n\nThursday\, June 4 at noon
X-ALT-DESC;FMTTYPE=text/html:Edward Jones &ndash\; Yoko Lawing\, Financial Advisor<br />\n602 S Jeffers<br />\nThursday\, June 4 at noon
LOCATION:
UID:e.590.7203
SEQUENCE:3
DTSTAMP:20260420T073153Z
URL:https://business.nparea.com/events/details/rc-go-for-edward-jones-yoko-lawing-financial-advisor-06-04-2015-7203
END:VEVENT

END:VCALENDAR
