BEGIN:VCALENDAR
VERSION:2.0
PRODID:-//ChamberMaster//Event Calendar 2.0//EN
METHOD:PUBLISH
X-PUBLISHED-TTL:P3D
REFRESH-INTERVAL:P3D
CALSCALE:GREGORIAN
BEGIN:VEVENT
DTSTART:20130513T220000Z
DTEND:20130513T223000Z
X-MICROSOFT-CDO-ALLDAYEVENT:FALSE
SUMMARY:RC & GO Dr Deb's Express Medical Care
DESCRIPTION:Dr Deb's Medical Express\n\nOpen House & Ribbon Cutting\n\n118 East C St\n\n5pm\n\nMonday\, May 13\, 2013
X-ALT-DESC;FMTTYPE=text/html:Dr Deb&#39\;s Medical Express<br />\nOpen House &amp\; Ribbon Cutting<br />\n118 East C St<br />\n5pm<br />\nMonday\, May 13\, 2013
LOCATION:
UID:e.590.5035
SEQUENCE:3
DTSTAMP:20260422T035802Z
URL:https://business.nparea.com/events/details/rc-go-dr-deb-s-express-medical-care-05-13-2013-5035
END:VEVENT

END:VCALENDAR
