BEGIN:VCALENDAR
VERSION:2.0
PRODID:-//ChamberMaster//Event Calendar 2.0//EN
METHOD:PUBLISH
X-PUBLISHED-TTL:P3D
REFRESH-INTERVAL:P3D
CALSCALE:GREGORIAN
BEGIN:VEVENT
DTSTART:20130823T170000Z
DTEND:20130823T180000Z
X-MICROSOFT-CDO-ALLDAYEVENT:FALSE
SUMMARY:RC & GO Cowboy Connection
DESCRIPTION:Cowboy Connection\n\nGrand Opening & Ribbon Cutting\n\n1020 Rodeo Road\n\nNoon
X-ALT-DESC;FMTTYPE=text/html:Cowboy Connection<br />\nGrand Opening &amp\; Ribbon Cutting<br />\n1020 Rodeo Road<br />\nNoon<br />\n
LOCATION:
UID:e.590.5284
SEQUENCE:3
DTSTAMP:20260421T225008Z
URL:https://business.nparea.com/events/details/rc-go-cowboy-connection-08-23-2013-5284
END:VEVENT

END:VCALENDAR
