BEGIN:VCALENDAR
VERSION:2.0
PRODID:-//ChamberMaster//Event Calendar 2.0//EN
METHOD:PUBLISH
X-PUBLISHED-TTL:P3D
REFRESH-INTERVAL:P3D
CALSCALE:GREGORIAN
BEGIN:VEVENT
DTSTART:20140121T150000Z
DTEND:20140121T160000Z
X-MICROSOFT-CDO-ALLDAYEVENT:FALSE
SUMMARY:RC - First National Bank south location
DESCRIPTION:Grand Opening and Ribbon Cutting\n\nFirst National Bank - south location\n\n9am
X-ALT-DESC;FMTTYPE=text/html:Grand Opening and Ribbon Cutting<br />\nFirst National Bank - south location<br />\n9am
LOCATION:
UID:e.590.5869
SEQUENCE:3
DTSTAMP:20260421T134916Z
URL:https://business.nparea.com/events/details/rc-first-national-bank-south-location-01-21-2014-5869
END:VEVENT

END:VCALENDAR
