BEGIN:VCALENDAR
VERSION:2.0
PRODID:-//ChamberMaster//Event Calendar 2.0//EN
METHOD:PUBLISH
X-PUBLISHED-TTL:P3D
REFRESH-INTERVAL:P3D
CALSCALE:GREGORIAN
BEGIN:VEVENT
DTSTART:20121221T230000Z
DTEND:20121222T001500Z
X-MICROSOFT-CDO-ALLDAYEVENT:FALSE
SUMMARY:RC & After Hours Open Houe
DESCRIPTION:Whiskey Creek is celebrating the completion of the remodel.   Ribbon Cutting at 5pm with After Hours event from 4:30-6:15pm.  301 Halligan Drive
X-ALT-DESC;FMTTYPE=text/html:<p>\n	Whiskey Creek is celebrating the completion of the remodel.&nbsp\;&nbsp\; Ribbon Cutting at 5pm with After Hours event from 4:30-6:15pm.&nbsp\; 301 Halligan Drive&nbsp\;</p>\n
LOCATION:
UID:e.590.4640
SEQUENCE:3
DTSTAMP:20260422T113730Z
URL:https://business.nparea.com/events/details/rc-after-hours-open-houe-12-21-2012-4640
END:VEVENT

END:VCALENDAR
