BEGIN:VCALENDAR
VERSION:2.0
PRODID:-//ChamberMaster//Event Calendar 2.0//EN
METHOD:PUBLISH
X-PUBLISHED-TTL:P3D
REFRESH-INTERVAL:P3D
CALSCALE:GREGORIAN
BEGIN:VEVENT
DTSTART:20130924T183000Z
DTEND:20130924T213000Z
X-MICROSOFT-CDO-ALLDAYEVENT:FALSE
SUMMARY:Public Forum - To Study Nebraska Tax Code
DESCRIPTION:The Legislative Tax Modernization Committee has announced its schedule for public hearings\, which are part of its study of the Nebraska Tax Code.\n\nThe hearings will be held to allow committee members to hear from Nebraska residents about their ideas regarding state taxes and tax reform.
X-ALT-DESC;FMTTYPE=text/html:<span style="color: rgb(54\, 54\, 54)\;"><span style="font-family: arial\,sans-serif\;"><span style="font-size: 10.5pt\;">The Legislative Tax Modernization Committee has announced its schedule for public hearings\, which are part of its study of the Nebraska Tax Code.</span></span></span><br />\n<span style="color: rgb(54\, 54\, 54)\;"><span style="font-family: arial\,sans-serif\;"><span style="font-size: 10.5pt\;">The hearings will be held to allow committee members to hear from Nebraska residents about their ideas regarding state taxes and tax reform.&nbsp\;</span></span></span><br />\n<br />\n
LOCATION:North Platte Community College South Campus Theater
UID:e.590.5275
SEQUENCE:3
DTSTAMP:20260421T210442Z
URL:https://business.nparea.com/events/details/public-forum-to-study-nebraska-tax-code-09-24-2013-5275
END:VEVENT

END:VCALENDAR
