BEGIN:VCALENDAR
VERSION:2.0
PRODID:-//ChamberMaster//Event Calendar 2.0//EN
METHOD:PUBLISH
X-PUBLISHED-TTL:P3D
REFRESH-INTERVAL:P3D
CALSCALE:GREGORIAN
BEGIN:VEVENT
DTSTART:20120501T213000Z
DTEND:20120501T223000Z
X-MICROSOFT-CDO-ALLDAYEVENT:FALSE
SUMMARY:Pink Poodle GO & RC
DESCRIPTION:
X-ALT-DESC;FMTTYPE=text/html:
LOCATION:
UID:e.590.3552
SEQUENCE:3
DTSTAMP:20260423T000027Z
URL:https://business.nparea.com/events/details/pink-poodle-go-rc-05-01-2012-3552
END:VEVENT

END:VCALENDAR
