BEGIN:VCALENDAR
VERSION:2.0
PRODID:-//ChamberMaster//Event Calendar 2.0//EN
METHOD:PUBLISH
X-PUBLISHED-TTL:P3D
REFRESH-INTERVAL:P3D
CALSCALE:GREGORIAN
BEGIN:VEVENT
DTSTART:20120928T180000Z
DTEND:20120928T200000Z
X-MICROSOFT-CDO-ALLDAYEVENT:FALSE
SUMMARY:Open House/RC Experience Works
DESCRIPTION:Open House 1-3pm at Experience Works located at 306 E 6th St.   Ribbon Cutting at 1pm.
X-ALT-DESC;FMTTYPE=text/html:Open House 1-3pm at Experience Works located at 306 E 6th St.&nbsp\;&nbsp\; Ribbon Cutting at 1pm.
LOCATION:
UID:e.590.4131
SEQUENCE:3
DTSTAMP:20260422T165548Z
URL:https://business.nparea.com/events/details/open-house-rc-experience-works-09-28-2012-4131
END:VEVENT

END:VCALENDAR
