BEGIN:VCALENDAR
VERSION:2.0
PRODID:-//ChamberMaster//Event Calendar 2.0//EN
METHOD:PUBLISH
X-PUBLISHED-TTL:P3D
REFRESH-INTERVAL:P3D
CALSCALE:GREGORIAN
BEGIN:VEVENT
DTSTART:20131203T230000Z
DTEND:20131204T010000Z
X-MICROSOFT-CDO-ALLDAYEVENT:FALSE
SUMMARY:Open House - Pro Printing & Graphics new location
DESCRIPTION:Pro Printing & Graphics\n\nOpen house to celebrate the new location\n\n2719 Halligan Dr\n\n5-7pm
X-ALT-DESC;FMTTYPE=text/html:Pro Printing &amp\; Graphics<br />\nOpen house to celebrate the new location<br />\n2719 Halligan Dr<br />\n5-7pm
LOCATION:
UID:e.590.5583
SEQUENCE:3
DTSTAMP:20260421T154227Z
URL:https://business.nparea.com/events/details/open-house-pro-printing-graphics-new-location-12-03-2013-5583
END:VEVENT

END:VCALENDAR
