BEGIN:VCALENDAR
VERSION:2.0
PRODID:-//ChamberMaster//Event Calendar 2.0//EN
METHOD:PUBLISH
X-PUBLISHED-TTL:P3D
REFRESH-INTERVAL:P3D
CALSCALE:GREGORIAN
BEGIN:VEVENT
DTSTART:20130411T230000Z
DTEND:20130412T010000Z
X-MICROSOFT-CDO-ALLDAYEVENT:FALSE
SUMMARY:Open House Centris Federal Credit Union
DESCRIPTION:
X-ALT-DESC;FMTTYPE=text/html:
LOCATION:
UID:e.590.4863
SEQUENCE:3
DTSTAMP:20260422T065122Z
URL:https://business.nparea.com/events/details/open-house-centris-federal-credit-union-04-11-2013-4863
END:VEVENT

END:VCALENDAR
