BEGIN:VCALENDAR
VERSION:2.0
PRODID:-//ChamberMaster//Event Calendar 2.0//EN
METHOD:PUBLISH
X-PUBLISHED-TTL:P3D
REFRESH-INTERVAL:P3D
CALSCALE:GREGORIAN
BEGIN:VEVENT
DTSTART:20131111T210000Z
DTEND:20131111T213000Z
X-MICROSOFT-CDO-ALLDAYEVENT:FALSE
SUMMARY:Open House and Ribbon Cutting Lutheran Family Services
DESCRIPTION:Lutheran Family Services\n\nOpen House and Ribbon Cutting\n\n120 E 12th Street\n\nNovember 11\, 2013\n\nOpen House - 2 - 3:30 pm\n\nRibbon Cutting - 3pm with Shane Osborne
X-ALT-DESC;FMTTYPE=text/html:Lutheran Family Services<br />\nOpen House and Ribbon Cutting<br />\n120 E 12th Street<br />\nNovember 11\, 2013<br />\nOpen House - 2 - 3:30 pm<br />\nRibbon Cutting - 3pm with Shane Osborne<br />\n
LOCATION:
UID:e.590.5576
SEQUENCE:3
DTSTAMP:20260421T173116Z
URL:https://business.nparea.com/events/details/open-house-and-ribbon-cutting-lutheran-family-services-11-11-2013-5576
END:VEVENT

END:VCALENDAR
