BEGIN:VCALENDAR
VERSION:2.0
PRODID:-//ChamberMaster//Event Calendar 2.0//EN
METHOD:PUBLISH
X-PUBLISHED-TTL:P3D
REFRESH-INTERVAL:P3D
CALSCALE:GREGORIAN
BEGIN:VEVENT
DTSTART;VALUE=DATE:20151126
DTEND;VALUE=DATE:20151128
TRANSP:TRANSPARENT
X-MICROSOFT-CDO-ALLDAYEVENT:TRUE
SUMMARY:Offices Closed for Thanksgiving
DESCRIPTION:
X-ALT-DESC;FMTTYPE=text/html:
LOCATION:
UID:e.590.7519
SEQUENCE:3
DTSTAMP:20260419T225740Z
URL:https://business.nparea.com/events/details/offices-closed-for-thanksgiving-11-26-2015-7519
END:VEVENT

END:VCALENDAR
