BEGIN:VCALENDAR
VERSION:2.0
PRODID:-//ChamberMaster//Event Calendar 2.0//EN
METHOD:PUBLISH
X-PUBLISHED-TTL:P3D
REFRESH-INTERVAL:P3D
CALSCALE:GREGORIAN
BEGIN:VEVENT
DTSTART;VALUE=DATE:20151225
DTEND;VALUE=DATE:20151226
TRANSP:TRANSPARENT
X-MICROSOFT-CDO-ALLDAYEVENT:TRUE
SUMMARY:Offices Closed for Christmas
DESCRIPTION:Offices Closed for Christma
X-ALT-DESC;FMTTYPE=text/html:Offices Closed for Christma
LOCATION:
UID:e.590.7522
SEQUENCE:3
DTSTAMP:20260419T205215Z
URL:https://business.nparea.com/events/details/offices-closed-for-christmas-12-25-2015-7522
END:VEVENT

END:VCALENDAR
