BEGIN:VCALENDAR
VERSION:2.0
PRODID:-//ChamberMaster//Event Calendar 2.0//EN
METHOD:PUBLISH
X-PUBLISHED-TTL:P3D
REFRESH-INTERVAL:P3D
CALSCALE:GREGORIAN
BEGIN:VEVENT
DTSTART:20130826T153000Z
DTEND:20130826T173000Z
X-MICROSOFT-CDO-ALLDAYEVENT:FALSE
SUMMARY:NPCC Business Fair for New Students
DESCRIPTION:North Platte Community College will be hosting a business fair to introduce new students to local products and services. On August 26\, 2013\, students will be routed through the NPCC Gymnasium on Orientation Day between 11:00 am and 12:30 pm.  Local vendors have an opportunity to set up tables and showcase their products and services.
X-ALT-DESC;FMTTYPE=text/html:North Platte Community College will be hosting a business fair to introduce new students to local products and services. On August 26\, 2013\, students will be routed through the NPCC&nbsp\;Gymnasium on Orientation Day between 11:00 am and 12:30 pm. &nbsp\;Local vendors have an opportunity to set up tables and showcase their products and services.
LOCATION:North Platte Community College South Campus Gym 601 West State Farm Rd North Platte\, NE 69101
UID:e.590.5282
SEQUENCE:3
DTSTAMP:20260421T225305Z
URL:https://business.nparea.com/events/details/npcc-business-fair-for-new-students-08-26-2013-5282
END:VEVENT

END:VCALENDAR
