BEGIN:VCALENDAR
VERSION:2.0
PRODID:-//ChamberMaster//Event Calendar 2.0//EN
METHOD:PUBLISH
X-PUBLISHED-TTL:P3D
REFRESH-INTERVAL:P3D
CALSCALE:GREGORIAN
BEGIN:VEVENT
DTSTART:20130620T210000Z
DTEND:20130621T010000Z
X-MICROSOFT-CDO-ALLDAYEVENT:FALSE
SUMMARY:NMC - 75 yr celebrations
DESCRIPTION:NMC is celebrating 75 years in Business\n\n4pm Kick off Celebration\n\nOpen House from 4pm to 8pm\n\n3501 S Jeffers St
X-ALT-DESC;FMTTYPE=text/html:NMC is celebrating 75 years in Business<br />\n4pm Kick off Celebration<br />\nOpen House from 4pm to 8pm<br />\n3501 S Jeffers St<br />\n
LOCATION:
UID:e.590.5127
SEQUENCE:3
DTSTAMP:20260422T022705Z
URL:https://business.nparea.com/events/details/nmc-75-yr-celebrations-06-20-2013-5127
END:VEVENT

END:VCALENDAR
