BEGIN:VCALENDAR
VERSION:2.0
PRODID:-//ChamberMaster//Event Calendar 2.0//EN
METHOD:PUBLISH
X-PUBLISHED-TTL:P3D
REFRESH-INTERVAL:P3D
CALSCALE:GREGORIAN
BEGIN:VEVENT
DTSTART:20150506T160000Z
DTEND:20150506T170000Z
X-MICROSOFT-CDO-ALLDAYEVENT:FALSE
SUMMARY:NLD RC & GO
DESCRIPTION:Nebraskaland Days Ribbon Cutting & Grand Opening
X-ALT-DESC;FMTTYPE=text/html:Nebraskaland&nbsp\;Days Ribbon Cutting &amp\; Grand Opening
LOCATION:Wild West Arena
UID:e.590.6892
SEQUENCE:3
DTSTAMP:20260420T090357Z
URL:https://business.nparea.com/events/details/nld-rc-go-05-06-2015-6892
END:VEVENT

END:VCALENDAR
