BEGIN:VCALENDAR
VERSION:2.0
PRODID:-//ChamberMaster//Event Calendar 2.0//EN
METHOD:PUBLISH
X-PUBLISHED-TTL:P3D
REFRESH-INTERVAL:P3D
CALSCALE:GREGORIAN
BEGIN:VEVENT
DTSTART:20120626T151500Z
DTEND:20120626T160000Z
X-MICROSOFT-CDO-ALLDAYEVENT:FALSE
SUMMARY:NebraskaLand National Bank Ground Breaking
DESCRIPTION:
X-ALT-DESC;FMTTYPE=text/html:
LOCATION:New site.
UID:e.590.3902
SEQUENCE:3
DTSTAMP:20260422T221511Z
URL:https://business.nparea.com/events/details/nebraskaland-national-bank-ground-breaking-06-26-2012-3902
END:VEVENT

END:VCALENDAR
