BEGIN:VCALENDAR
VERSION:2.0
PRODID:-//ChamberMaster//Event Calendar 2.0//EN
METHOD:PUBLISH
X-PUBLISHED-TTL:P3D
REFRESH-INTERVAL:P3D
CALSCALE:GREGORIAN
BEGIN:VEVENT
DTSTART:20150620T180000Z
DTEND:20150620T210000Z
X-MICROSOFT-CDO-ALLDAYEVENT:FALSE
SUMMARY:Nebraskaland Days Parade
DESCRIPTION:
X-ALT-DESC;FMTTYPE=text/html:
LOCATION:
UID:e.590.7350
SEQUENCE:3
DTSTAMP:20260420T072456Z
URL:https://business.nparea.com/events/details/nebraskaland-days-parade-06-20-2015-7350
END:VEVENT

END:VCALENDAR
