BEGIN:VCALENDAR
VERSION:2.0
PRODID:-//ChamberMaster//Event Calendar 2.0//EN
METHOD:PUBLISH
X-PUBLISHED-TTL:P3D
REFRESH-INTERVAL:P3D
CALSCALE:GREGORIAN
BEGIN:VEVENT
DTSTART:20130911T183000Z
DTEND:20130911T193000Z
X-MICROSOFT-CDO-ALLDAYEVENT:FALSE
SUMMARY:Nebraska Health Care Alliance Forum
DESCRIPTION:Please join us at the North Platte Chamber & Development for an informational forum about the Affordable Care Act presented by the Nebraska Healthcare Alliance entitled: New Benefits and Additional Costs to Nebraskans. \n\n	 \n\n	The forum will be on Wednesday\, September 11th at 1:30pm.  Bring your family\, friends\, and co-workers to learn about the new benefits and new costs facing Nebraskans under the new healthcare law. This presentation will discuss benefits and costs for the insured\, non insured\, and for all employers
X-ALT-DESC;FMTTYPE=text/html:<div style="color: gray\;">\n	<span style="font-size: 14pt\;"><span style="font-family: arial\,sans-serif\;"><span style="color: black\;">Please join us at the North Platte Chamber&nbsp\;&amp\; Development&nbsp\;for an informational forum about the Affordable Care Act presented by the Nebraska Healthcare Alliance entitled: New Benefits and Additional Costs to Nebraskans. </span></span></span><br />\n	&nbsp\;<br />\n	<strong><span style="font-size: 14pt\;"><span style="font-family: arial\,sans-serif\;"><span style="color: black\;"><span color="#000000">The forum will be on Wednesday\, September 11th at 1:30pm.&nbsp\;</span></span></span></span></strong><span style="font-size: 14pt\;"><span style="font-family: arial\,sans-serif\;"><span style="color: black\;"> Bring your family\, friends\, and co-workers to learn about the new benefits and new costs facing Nebraskans under the new healthcare law. This presentation will discuss benefits and costs for the insured\, non insured\, and for all employers</span></span></span></div>\n
LOCATION:Chamber & Development Board Room
UID:e.590.5292
SEQUENCE:3
DTSTAMP:20260421T225511Z
URL:https://business.nparea.com/events/details/nebraska-health-care-alliance-forum-09-11-2013-5292
END:VEVENT

END:VCALENDAR
