BEGIN:VCALENDAR
VERSION:2.0
PRODID:-//ChamberMaster//Event Calendar 2.0//EN
METHOD:PUBLISH
X-PUBLISHED-TTL:P3D
REFRESH-INTERVAL:P3D
CALSCALE:GREGORIAN
BEGIN:VEVENT
DTSTART:20121206T173000Z
DTEND:20121206T183000Z
X-MICROSOFT-CDO-ALLDAYEVENT:FALSE
SUMMARY:Modern Tire Pro - Ribbon Cutting/Open House
DESCRIPTION:Modern Tire Pro - Ribbon Cutting and Open House\n\n	1402 South Jeffers Street\n\n	Thursday\, December 6\, 2012\n\n	Ribbon Cutting will take place at 11:30 a.m.
X-ALT-DESC;FMTTYPE=text/html:<div style="color: gray">\n	Modern Tire Pro - Ribbon Cutting and Open House<br />\n	1402 South Jeffers Street<br />\n	Thursday\, December 6\, 2012<br />\n	Ribbon Cutting will take place at 11:30 a.m.<br />\n	<br />\n	<span _fck_bookmark="1" style="display: none">&nbsp\;</span></div>\n
LOCATION:
UID:e.590.4637
SEQUENCE:3
DTSTAMP:20260422T114150Z
URL:https://business.nparea.com/events/details/modern-tire-pro-ribbon-cutting-open-house-12-06-2012-4637
END:VEVENT

END:VCALENDAR
