BEGIN:VCALENDAR
VERSION:2.0
PRODID:-//ChamberMaster//Event Calendar 2.0//EN
METHOD:PUBLISH
X-PUBLISHED-TTL:P3D
REFRESH-INTERVAL:P3D
CALSCALE:GREGORIAN
BEGIN:VEVENT
DTSTART:20130607T213000Z
DTEND:20130607T223000Z
X-MICROSOFT-CDO-ALLDAYEVENT:FALSE
SUMMARY:Miss Nebraska Parade Downtown
DESCRIPTION:Miss Nebraska Parade Downtown\n\nLine up behind Nebraskaland National Bank at 4pm\n\nParade starts at 4:30pm
X-ALT-DESC;FMTTYPE=text/html:Miss Nebraska Parade Downtown<br />\nLine up behind Nebraskaland National Bank at 4pm<br />\nParade starts at 4:30pm<br />\n
LOCATION:
UID:e.590.5125
SEQUENCE:3
DTSTAMP:20260422T022925Z
URL:https://business.nparea.com/events/details/miss-nebraska-parade-downtown-06-07-2013-5125
END:VEVENT

END:VCALENDAR
