BEGIN:VCALENDAR
VERSION:2.0
PRODID:-//ChamberMaster//Event Calendar 2.0//EN
METHOD:PUBLISH
X-PUBLISHED-TTL:P3D
REFRESH-INTERVAL:P3D
CALSCALE:GREGORIAN
BEGIN:VEVENT
DTSTART:20131009T133000Z
DTEND:20131009T143000Z
X-MICROSOFT-CDO-ALLDAYEVENT:FALSE
SUMMARY:Meet the Candidate: Roric Paulman for Nebraska State Senator
DESCRIPTION:District 42 Nebraska State Senate candidate\, Roric Paulman will be stopping by to introduce himself and to discuss why he is seeking public office in 2014.  Area constituents will have an opportunity to discuss issues of local importance.
X-ALT-DESC;FMTTYPE=text/html:District 42 Nebraska State Senate candidate\, Roric Paulman&nbsp\;will be stopping by to introduce himself and to discuss why he is seeking public office in 2014. &nbsp\;Area constituents will have an opportunity to discuss issues of local importance.
LOCATION:The North Platte Area Chamber & Development Corp.- Board Room 502 South Dewey St. North Platte\, NE 69101
UID:e.590.5440
SEQUENCE:3
DTSTAMP:20260421T192354Z
URL:https://business.nparea.com/events/details/meet-the-candidate-roric-paulman-for-nebraska-state-senator-10-09-2013-5440
END:VEVENT

END:VCALENDAR
