BEGIN:VCALENDAR
VERSION:2.0
PRODID:-//ChamberMaster//Event Calendar 2.0//EN
METHOD:PUBLISH
X-PUBLISHED-TTL:P3D
REFRESH-INTERVAL:P3D
CALSCALE:GREGORIAN
BEGIN:VEVENT
DTSTART:20121130T213000Z
DTEND:20121201T000000Z
X-MICROSOFT-CDO-ALLDAYEVENT:FALSE
SUMMARY:Man Cave - Ribbon Cutting/Open House
DESCRIPTION:Man Cave Ribbon Cutting and Open House\n\n	315 East 6th Street\n\n	Friday\, November 30\, 2012 3:30-6pm\n\n	Ribbon Cutting will take place at 3:30pm\n\n	Open House from 4-6pm
X-ALT-DESC;FMTTYPE=text/html:<div style="color: gray">\n	Man Cave Ribbon Cutting and Open House<br />\n	315 East 6th&nbsp\;Street<br />\n	Friday\, November 30\, 2012 3:30-6pm<br />\n	Ribbon Cutting will take place at 3:30pm<br />\n	Open House from 4-6pm<br />\n	<span _fck_bookmark="1" style="display: none">&nbsp\;</span></div>\n
LOCATION:
UID:e.590.4638
SEQUENCE:3
DTSTAMP:20260422T131900Z
URL:https://business.nparea.com/events/details/man-cave-ribbon-cutting-open-house-11-30-2012-4638
END:VEVENT

END:VCALENDAR
