BEGIN:VCALENDAR
VERSION:2.0
PRODID:-//ChamberMaster//Event Calendar 2.0//EN
METHOD:PUBLISH
X-PUBLISHED-TTL:P3D
REFRESH-INTERVAL:P3D
CALSCALE:GREGORIAN
BEGIN:VEVENT
DTSTART:20150609T203000Z
DTEND:20150610T000000Z
X-MICROSOFT-CDO-ALLDAYEVENT:FALSE
SUMMARY:LLC Committee Meeting
DESCRIPTION:
X-ALT-DESC;FMTTYPE=text/html:
LOCATION:Canteen Grill
UID:e.590.7205
SEQUENCE:3
DTSTAMP:20260420T072744Z
URL:https://business.nparea.com/events/details/llc-committee-meeting-06-09-2015-7205
END:VEVENT

END:VCALENDAR
