BEGIN:VCALENDAR
VERSION:2.0
PRODID:-//ChamberMaster//Event Calendar 2.0//EN
METHOD:PUBLISH
X-PUBLISHED-TTL:P3D
REFRESH-INTERVAL:P3D
CALSCALE:GREGORIAN
BEGIN:VEVENT
DTSTART:20121011T120000Z
DTEND:20121011T133000Z
X-MICROSOFT-CDO-ALLDAYEVENT:FALSE
SUMMARY:Legislative Forum Breakfast
DESCRIPTION:Legislative Forum Breakfast with the Nebraska State Chamber of Commerce & Industry.
X-ALT-DESC;FMTTYPE=text/html:Legislative Forum Breakfast with the Nebraska State Chamber of Commerce &amp\; Industry.
LOCATION:Holiday Inn Express located at 300 Holiday Frontage Road
UID:e.590.4111
SEQUENCE:3
DTSTAMP:20260422T165247Z
URL:https://business.nparea.com/events/details/legislative-forum-breakfast-10-11-2012-4111
END:VEVENT

END:VCALENDAR
