BEGIN:VCALENDAR
VERSION:2.0
PRODID:-//ChamberMaster//Event Calendar 2.0//EN
METHOD:PUBLISH
X-PUBLISHED-TTL:P3D
REFRESH-INTERVAL:P3D
CALSCALE:GREGORIAN
BEGIN:VEVENT
DTSTART:20150518T220000Z
DTEND:20150518T230000Z
X-MICROSOFT-CDO-ALLDAYEVENT:FALSE
SUMMARY:Krull Clinic RC & GO
DESCRIPTION:RC & GO\n\nMonday the 18th\n\nFrom 6-7pm\n121 Regency Lane\n\nNorth Platte\, NE 69101\n\n(308) 660-0988
X-ALT-DESC;FMTTYPE=text/html:RC &amp\; GO<br />\nMonday the 18th<br />\nFrom 6-7pm\n<div class="mn-member-address" itemprop="streetAddress" style="margin: 0px\; padding: 0px\; border: none\; border-image-source: none\; border-image-slice: 100% 1 0\; border-image-repeat: stretch\; outline: invert none medium\; bottom: auto\; box-sizing: content-box\; clear: none\; color: rgb(68\, 68\, 68)\; content: normal\; direction: inherit\; empty-cells: show\; float: none\; font-family: Tahoma\, Arial\, Verdana\, sans-serif\; font-size: 14px\; font-stretch: inherit\; left: auto\; line-height: 18.1999988555908px\; max-height: none\; max-width: none\; min-height: initial\; min-width: initial\; opacity: 1\; outline-offset: 0px\; overflow: visible\; position: static\; resize: none\; right: auto\; table-layout: auto\; text-overflow: clip\; top: auto\; vertical-align: baseline\; visibility: inherit\; word-break: inherit\; word-wrap: inherit\; z-index: auto\; border-collapse: separate\; border-radius: 0px\; height: auto\; width: auto\; box-shadow: none\; background: none rgb(255\, 255\, 255)\;">121 Regency Lane</div>\n\n<div class="mn-member-cistpost" style="margin: 0px\; padding: 0px\; border: none\; border-image-source: none\; border-image-slice: 100% 1 0\; border-image-repeat: stretch\; outline: invert none medium\; bottom: auto\; box-sizing: content-box\; clear: none\; color: rgb(68\, 68\, 68)\; content: normal\; direction: inherit\; empty-cells: show\; float: none\; font-family: Tahoma\, Arial\, Verdana\, sans-serif\; font-size: 14px\; font-stretch: inherit\; left: auto\; line-height: 18.1999988555908px\; max-height: none\; max-width: none\; min-height: initial\; min-width: initial\; opacity: 1\; outline-offset: 0px\; overflow: visible\; position: static\; resize: none\; right: auto\; table-layout: auto\; text-overflow: clip\; top: auto\; vertical-align: baseline\; visibility: inherit\; word-break: inherit\; word-wrap: inherit\; z-index: auto\; border-collapse: separate\; border-radius: 0px\; height: auto\; width: auto\; box-shadow: none\; background: none rgb(255\, 255\, 255)\;"><span itemprop="addressLocality" style="margin: 0px\; padding: 0px\; border: none\; border-image-source: none\; border-image-slice: 100% 1 0\; border-image-repeat: stretch\; outline: invert none medium\; bottom: auto\; box-sizing: content-box\; clear: none\; color: inherit\; content: normal\; direction: inherit\; display: inline\; empty-cells: show\; float: none\; font-family: inherit\; font-size: inherit\; font-style: inherit\; font-variant: inherit\; font-weight: inherit\; font-stretch: inherit\; left: auto\; letter-spacing: inherit\; line-height: inherit\; max-height: none\; max-width: none\; min-height: initial\; min-width: initial\; opacity: 1\; outline-offset: 0px\; overflow: visible\; position: static\; resize: none\; right: auto\; table-layout: auto\; text-align: inherit\; text-indent: inherit\; text-overflow: clip\; text-transform: inherit\; top: auto\; vertical-align: baseline\; visibility: inherit\; white-space: inherit\; word-break: inherit\; word-spacing: inherit\; word-wrap: inherit\; z-index: auto\; border-collapse: separate\; border-radius: 0px\; height: auto\; width: auto\; box-shadow: none\; background: none\;">North Platte</span>\,&nbsp\;<span itemprop="addressRegion" style="margin: 0px\; padding: 0px\; border: none\; border-image-source: none\; border-image-slice: 100% 1 0\; border-image-repeat: stretch\; outline: invert none medium\; bottom: auto\; box-sizing: content-box\; clear: none\; color: inherit\; content: normal\; direction: inherit\; display: inline\; empty-cells: show\; float: none\; font-family: inherit\; font-size: inherit\; font-style: inherit\; font-variant: inherit\; font-weight: inherit\; font-stretch: inherit\; left: auto\; letter-spacing: inherit\; line-height: inherit\; max-height: none\; max-width: none\; min-height: initial\; min-width: initial\; opacity: 1\; outline-offset: 0px\; overflow: visible\; position: static\; resize: none\; right: auto\; table-layout: auto\; text-align: inherit\; text-indent: inherit\; text-overflow: clip\; text-transform: inherit\; top: auto\; vertical-align: baseline\; visibility: inherit\; white-space: inherit\; word-break: inherit\; word-spacing: inherit\; word-wrap: inherit\; z-index: auto\; border-collapse: separate\; border-radius: 0px\; height: auto\; width: auto\; box-shadow: none\; background: none\;">NE&nbsp\;</span><span itemprop="postalCode" style="margin: 0px\; padding: 0px\; border: none\; border-image-source: none\; border-image-slice: 100% 1 0\; border-image-repeat: stretch\; outline: invert none medium\; bottom: auto\; box-sizing: content-box\; clear: none\; color: inherit\; content: normal\; direction: inherit\; display: inline\; empty-cells: show\; float: none\; font-family: inherit\; font-size: inherit\; font-style: inherit\; font-variant: inherit\; font-weight: inherit\; font-stretch: inherit\; left: auto\; letter-spacing: inherit\; line-height: inherit\; max-height: none\; max-width: none\; min-height: initial\; min-width: initial\; opacity: 1\; outline-offset: 0px\; overflow: visible\; position: static\; resize: none\; right: auto\; table-layout: auto\; text-align: inherit\; text-indent: inherit\; text-overflow: clip\; text-transform: inherit\; top: auto\; vertical-align: baseline\; visibility: inherit\; white-space: inherit\; word-break: inherit\; word-spacing: inherit\; word-wrap: inherit\; z-index: auto\; border-collapse: separate\; border-radius: 0px\; height: auto\; width: auto\; box-shadow: none\; background: none\;">69101</span></div>\n\n<div class="mn-member-phone1" itemprop="telephone" style="margin: 0px\; padding: 0px\; border: none\; border-image-source: none\; border-image-slice: 100% 1 0\; border-image-repeat: stretch\; outline: invert none medium\; bottom: auto\; box-sizing: content-box\; clear: none\; color: rgb(68\, 68\, 68)\; content: normal\; direction: inherit\; empty-cells: show\; float: none\; font-family: Tahoma\, Arial\, Verdana\, sans-serif\; font-size: 14px\; font-stretch: inherit\; left: auto\; line-height: 18.1999988555908px\; max-height: none\; max-width: none\; min-height: initial\; min-width: initial\; opacity: 1\; outline-offset: 0px\; overflow: visible\; position: static\; resize: none\; right: auto\; table-layout: auto\; text-overflow: clip\; top: auto\; vertical-align: baseline\; visibility: inherit\; word-break: inherit\; word-wrap: inherit\; z-index: auto\; border-collapse: separate\; border-radius: 0px\; height: auto\; width: auto\; box-shadow: none\; background: none rgb(255\, 255\, 255)\;">(308) 660-0988</div>\n
LOCATION:
UID:e.590.7188
SEQUENCE:3
DTSTAMP:20260420T110147Z
URL:https://business.nparea.com/events/details/krull-clinic-rc-go-05-18-2015-7188
END:VEVENT

END:VCALENDAR
